BEGIN:VCALENDAR
VERSION:2.0
PRODID:-//Lavender Lane Wellness  Centre - ECPv6.15.20//NONSGML v1.0//EN
CALSCALE:GREGORIAN
METHOD:PUBLISH
X-ORIGINAL-URL:https://lavenderlaneptw.ca
X-WR-CALDESC:Events for Lavender Lane Wellness  Centre
REFRESH-INTERVAL;VALUE=DURATION:PT1H
X-Robots-Tag:noindex
X-PUBLISHED-TTL:PT1H
BEGIN:VTIMEZONE
TZID:UTC
BEGIN:STANDARD
TZOFFSETFROM:+0000
TZOFFSETTO:+0000
TZNAME:UTC
DTSTART:20250101T000000
END:STANDARD
END:VTIMEZONE
BEGIN:VTIMEZONE
TZID:America/Toronto
BEGIN:DAYLIGHT
TZOFFSETFROM:-0500
TZOFFSETTO:-0400
TZNAME:EDT
DTSTART:20250309T070000
END:DAYLIGHT
BEGIN:STANDARD
TZOFFSETFROM:-0400
TZOFFSETTO:-0500
TZNAME:EST
DTSTART:20251102T060000
END:STANDARD
BEGIN:DAYLIGHT
TZOFFSETFROM:-0500
TZOFFSETTO:-0400
TZNAME:EDT
DTSTART:20260308T070000
END:DAYLIGHT
BEGIN:STANDARD
TZOFFSETFROM:-0400
TZOFFSETTO:-0500
TZNAME:EST
DTSTART:20261101T060000
END:STANDARD
BEGIN:DAYLIGHT
TZOFFSETFROM:-0500
TZOFFSETTO:-0400
TZNAME:EDT
DTSTART:20270314T070000
END:DAYLIGHT
BEGIN:STANDARD
TZOFFSETFROM:-0400
TZOFFSETTO:-0500
TZNAME:EST
DTSTART:20271107T060000
END:STANDARD
END:VTIMEZONE
BEGIN:VEVENT
DTSTART;TZID=UTC:20260622T133000
DTEND;TZID=UTC:20260622T143000
DTSTAMP:20260421T201337
CREATED:20250815T153119Z
LAST-MODIFIED:20250815T153119Z
UID:3300-1782135000-1782138600@lavenderlaneptw.ca
SUMMARY:Kundalini Yoga
DESCRIPTION:Kundalini Yoga Class\nBook Now\n60 minutes: $15.00 Kundalini Yoga Class: “Beyond its physical benefits\, Kundalini Yoga can be deeply transformative on a spiritual and emotional level\, promoting self-discovery\, inner peace\, and a sense of unity. It is accessible to all and can be done in a chair\, with props\, or visualized. It incorporates a blend of physical postures\, breathwork\, chanting\, and meditation to create a deeper connection with the self and the world. \nKundalini Yoga emphasizes the importance of knowing what is right for oneself. A teacher does not adjust the student\, and most postures are done with the eyes closed. Breathing techniques are used to balance the flow of energy throughout the body. Kundalini Yoga is also known for its unique combination of movements\, called kriyas.\nwhich are designed to target specific areas of the body and its chakras.”
URL:https://lavenderlaneptw.ca/event/kundalini-yoga-33/
LOCATION:Lavender Lane Wellness Centre\, 215 Toman Drive\, Waterloo\, Ontario\, N2K 4H1\, Canada
ATTACH;FMTTYPE=image/png:https://lavenderlaneptw.ca/wp-content/uploads/2024/10/Kundalini-1.png
END:VEVENT
BEGIN:VEVENT
DTSTART;TZID=America/Toronto:20260623T180000
DTEND;TZID=America/Toronto:20260623T210000
DTSTAMP:20260421T201337
CREATED:20250820T161610Z
LAST-MODIFIED:20250820T161613Z
UID:3405-1782237600-1782248400@lavenderlaneptw.ca
SUMMARY:Exploring Wellness
DESCRIPTION:5:00 pm – 9:00 pm\n\nExploring Wellness!\n\n \n30 minutes\, $40\n\n\n\n\n\n\n\n\n\n\n\n\n\n\n\n\nAre you ready to dive into a world of wellness and rejuvenation? Join us at our Exploring Wellness event and unlock a new level of holistic health and fun! \n\n\n\n\n\n\n\n\n\n\n\n\n\n\n\n\n\n\n\n\n\n\n\n\n\n\n\n\nWhether you’re seeking relaxation\, clarity\, or just a new experience\, our event offers something for everyone. Don’t miss out—come explore wellness with us and see what new paths to well-being await! \n\nJoin us for an event featuring a fantastic lineup of practitioners offering their services at unbeatable discounts! \n***** \nExploring Wellness – Reiki & Energy Sampler30 min – $40.00  Reiki & Energy Sampler \n\n\n\n\n\n\n\n\n\n\n\n\n\n\n\n\n\n\n\n\n\n\n\n\n\n\n\n\n\n\n\n\n\n\n\n\n\n\nBook Now \n\n  \n***** \n\n\n\n\n\n\n\n\n\n\n\n\n\n\n\n\n\nExploring Osteopathy – Victoria Woolridge In Person \nBook Now \nManual Osteopathy helps restore the normal function of the body by treating the causes of pain that may be the result of illness\, injury\, or stress of daily living. \n***** \n\n\n\n\nExploring Neurofeedback  – Shannon Thompson   \nBook Now     \n  \n  \n  \nExploring Your Energy Grid – Shannon Thompson  \nBook Now    Energy Grid Readings are incredibly helpful to understand who we truly are. What does our actual “blueprint” look like? Who were we before we were influenced by our parents\, our society\, and the experiences in our lives? Understanding who we naturally are brings us so much peace because we stop trying to be who we think we are supposed to be. We can rest easy in our actual design and grow and expand from there. \n**** \n  \n\n\n\n\n\n\n\n\n\n\n\n\n\n\n\n\n\n\n\n\n\n\n\n\n\n\n\n\n\n\n\n\n\n\n\n \n\n\n\n\n \n\n \n\n 
URL:https://lavenderlaneptw.ca/event/exploring-wellness-9/
LOCATION:Lavender Lane Wellness Centre\, 215 Toman Drive\, Waterloo\, Ontario\, N2K 4H1\, Canada
ATTACH;FMTTYPE=image/png:https://lavenderlaneptw.ca/wp-content/uploads/2025/01/explore.png
END:VEVENT
BEGIN:VEVENT
DTSTART;TZID=UTC:20260629T133000
DTEND;TZID=UTC:20260629T143000
DTSTAMP:20260421T201337
CREATED:20250815T153139Z
LAST-MODIFIED:20250815T153139Z
UID:3302-1782739800-1782743400@lavenderlaneptw.ca
SUMMARY:Kundalini Yoga
DESCRIPTION:Kundalini Yoga Class\nBook Now\n60 minutes: $15.00 Kundalini Yoga Class: “Beyond its physical benefits\, Kundalini Yoga can be deeply transformative on a spiritual and emotional level\, promoting self-discovery\, inner peace\, and a sense of unity. It is accessible to all and can be done in a chair\, with props\, or visualized. It incorporates a blend of physical postures\, breathwork\, chanting\, and meditation to create a deeper connection with the self and the world. \nKundalini Yoga emphasizes the importance of knowing what is right for oneself. A teacher does not adjust the student\, and most postures are done with the eyes closed. Breathing techniques are used to balance the flow of energy throughout the body. Kundalini Yoga is also known for its unique combination of movements\, called kriyas.\nwhich are designed to target specific areas of the body and its chakras.”
URL:https://lavenderlaneptw.ca/event/kundalini-yoga-34/
LOCATION:Lavender Lane Wellness Centre\, 215 Toman Drive\, Waterloo\, Ontario\, N2K 4H1\, Canada
ATTACH;FMTTYPE=image/png:https://lavenderlaneptw.ca/wp-content/uploads/2024/10/Kundalini-1.png
END:VEVENT
END:VCALENDAR