BEGIN:VCALENDAR
VERSION:2.0
PRODID:-//Lavender Lane Wellness  Centre - ECPv6.15.20//NONSGML v1.0//EN
CALSCALE:GREGORIAN
METHOD:PUBLISH
X-WR-CALNAME:Lavender Lane Wellness  Centre
X-ORIGINAL-URL:https://lavenderlaneptw.ca
X-WR-CALDESC:Events for Lavender Lane Wellness  Centre
REFRESH-INTERVAL;VALUE=DURATION:PT1H
X-Robots-Tag:noindex
X-PUBLISHED-TTL:PT1H
BEGIN:VTIMEZONE
TZID:UTC
BEGIN:STANDARD
TZOFFSETFROM:+0000
TZOFFSETTO:+0000
TZNAME:UTC
DTSTART:20240101T000000
END:STANDARD
END:VTIMEZONE
BEGIN:VEVENT
DTSTART;TZID=UTC:20251113T193000
DTEND;TZID=UTC:20251113T203000
DTSTAMP:20260422T061201
CREATED:20250819T175553Z
LAST-MODIFIED:20250820T155619Z
UID:3349-1763062200-1763065800@lavenderlaneptw.ca
SUMMARY:Yoga Challenge and Presence
DESCRIPTION:Challenge and Presence – Thursdays @ 7:30pm \nThis dynamic flow class offers a balance of movement and stillness. Through active\, flowing sequences\, you will build strength\, increase flexibility\, and challenge both body and mind. Expect to move with purpose\, breathe with intention\, and leave feeling grounded and empowered. \nDrop In: $25 + HST \n6 Pack: $130 + HST \n10 Pack: $205 + HST \nBook Now\n 
URL:https://lavenderlaneptw.ca/event/yoga-challenge-and-presence-9/
LOCATION:Lavender Lane Wellness Centre\, 215 Toman Drive\, Waterloo\, Ontario\, N2K 4H1\, Canada
ATTACH;FMTTYPE=image/jpeg:https://lavenderlaneptw.ca/wp-content/uploads/2025/08/Yoga-Class.jpg
END:VEVENT
BEGIN:VEVENT
DTSTART;TZID=UTC:20251113T180000
DTEND;TZID=UTC:20251113T190000
DTSTAMP:20260422T061201
CREATED:20250822T151940Z
LAST-MODIFIED:20250822T151944Z
UID:3436-1763056800-1763060400@lavenderlaneptw.ca
SUMMARY:Restorative Yoga
DESCRIPTION:RESTORATIVE YOGA SERIES \nThursdays 6-7 PM \nBook Now \n  \nStep into a class designed to restore balance in both body and mind. This restorative yoga and meditation practice combines gentle\, supported postures with mindful breathing and guided meditation\, designed to release tension\, calm the nervous system\, and promote deep relaxation. Perfect for all levels\, this class offers a space to slow down\, reset and leave feeling rested and grounded \nRestorative Yoga & Meditation series\, I’m going to make this one 8 weeks long this time with the option to pay for all 8 classes upfront $160 per person ($20 per class) OR $25 drop in classes \nSAPPHIRA WAL TBAUER \nRMT\, YTT\, RYT
URL:https://lavenderlaneptw.ca/event/restorative-yoga-5/
LOCATION:Lavender Lane Wellness Centre\, 215 Toman Drive\, Waterloo\, Ontario\, N2K 4H1\, Canada
ATTACH;FMTTYPE=image/jpeg:https://lavenderlaneptw.ca/wp-content/uploads/2025/08/restorative.jpg
END:VEVENT
BEGIN:VEVENT
DTSTART;TZID=UTC:20251110T160000
DTEND;TZID=UTC:20251110T170000
DTSTAMP:20260422T061201
CREATED:20250814T155232Z
LAST-MODIFIED:20250814T155232Z
UID:3209-1762790400-1762794000@lavenderlaneptw.ca
SUMMARY:Pilates & ELDOA
DESCRIPTION:Pilates & ELDOA Class: 6 Weeks\nDuring this class\, we will focus on strength\, stability\, posture\, proper control\, and flexibility\, keeping in mind the Pilates principles. Then\, in order to finish the class off feeling your absolute best\, we will do ELDOA for the spine. ELDOA are postural exercises\, with the primary goal being to increase the space within a chosen articulation. As the ELDOA “creates” space\, there is an improvement in joint mechanics\, increased blood flow\, reduced pressure on the discs\, a reduction of pain\, spinal disc rehydration\, better muscle tone\, improved posture\, and a sense of well-being and awareness. Please bring your yoga mat and water bottle to the session! You will be billed $150 + HST for the 6-week package at time of booking. \nBook Now
URL:https://lavenderlaneptw.ca/event/pilates-eldoa-9/
LOCATION:Lavender Lane Wellness Centre\, 215 Toman Drive\, Waterloo\, Ontario\, N2K 4H1\, Canada
ATTACH;FMTTYPE=image/jpeg:https://lavenderlaneptw.ca/wp-content/uploads/2024/12/pilates-1.jpg
END:VEVENT
BEGIN:VEVENT
DTSTART;TZID=UTC:20251110T133000
DTEND;TZID=UTC:20251110T143000
DTSTAMP:20260422T061201
CREATED:20250815T151812Z
LAST-MODIFIED:20250815T151812Z
UID:3247-1762781400-1762785000@lavenderlaneptw.ca
SUMMARY:Kundalini Yoga
DESCRIPTION:Kundalini Yoga Class\nBook Now\n60 minutes: $15.00 Kundalini Yoga Class: “Beyond its physical benefits\, Kundalini Yoga can be deeply transformative on a spiritual and emotional level\, promoting self-discovery\, inner peace\, and a sense of unity. It is accessible to all and can be done in a chair\, with props\, or visualized. It incorporates a blend of physical postures\, breathwork\, chanting\, and meditation to create a deeper connection with the self and the world. \nKundalini Yoga emphasizes the importance of knowing what is right for oneself. A teacher does not adjust the student\, and most postures are done with the eyes closed. Breathing techniques are used to balance the flow of energy throughout the body. Kundalini Yoga is also known for its unique combination of movements\, called kriyas.\nwhich are designed to target specific areas of the body and its chakras.”
URL:https://lavenderlaneptw.ca/event/kundalini-yoga/
LOCATION:Lavender Lane Wellness Centre\, 215 Toman Drive\, Waterloo\, Ontario\, N2K 4H1\, Canada
ATTACH;FMTTYPE=image/png:https://lavenderlaneptw.ca/wp-content/uploads/2024/10/Kundalini-1.png
END:VEVENT
BEGIN:VEVENT
DTSTART;TZID=UTC:20251106T193000
DTEND;TZID=UTC:20251106T203000
DTSTAMP:20260422T061201
CREATED:20250819T175521Z
LAST-MODIFIED:20250820T155653Z
UID:3347-1762457400-1762461000@lavenderlaneptw.ca
SUMMARY:Yoga Challenge and Presence
DESCRIPTION:Challenge and Presence – Thursdays @ 7:30pm \nThis dynamic flow class offers a balance of movement and stillness. Through active\, flowing sequences\, you will build strength\, increase flexibility\, and challenge both body and mind. Expect to move with purpose\, breathe with intention\, and leave feeling grounded and empowered. \nDrop In: $25 + HST \n6 Pack: $130 + HST \n10 Pack: $205 + HST \nBook Now\n 
URL:https://lavenderlaneptw.ca/event/yoga-challenge-and-presence-8/
LOCATION:Lavender Lane Wellness Centre\, 215 Toman Drive\, Waterloo\, Ontario\, N2K 4H1\, Canada
ATTACH;FMTTYPE=image/jpeg:https://lavenderlaneptw.ca/wp-content/uploads/2025/08/Yoga-Class.jpg
END:VEVENT
BEGIN:VEVENT
DTSTART;TZID=UTC:20251106T180000
DTEND;TZID=UTC:20251106T190000
DTSTAMP:20260422T061201
CREATED:20250822T151817Z
LAST-MODIFIED:20250822T151820Z
UID:3434-1762452000-1762455600@lavenderlaneptw.ca
SUMMARY:Restorative Yoga
DESCRIPTION:RESTORATIVE YOGA SERIES \nThursdays 6-7 PM \nBook Now \n  \nStep into a class designed to restore balance in both body and mind. This restorative yoga and meditation practice combines gentle\, supported postures with mindful breathing and guided meditation\, designed to release tension\, calm the nervous system\, and promote deep relaxation. Perfect for all levels\, this class offers a space to slow down\, reset and leave feeling rested and grounded \nRestorative Yoga & Meditation series\, I’m going to make this one 8 weeks long this time with the option to pay for all 8 classes upfront $160 per person ($20 per class) OR $25 drop in classes \nSAPPHIRA WAL TBAUER \nRMT\, YTT\, RYT
URL:https://lavenderlaneptw.ca/event/restorative-yoga-4/
LOCATION:Lavender Lane Wellness Centre\, 215 Toman Drive\, Waterloo\, Ontario\, N2K 4H1\, Canada
ATTACH;FMTTYPE=image/jpeg:https://lavenderlaneptw.ca/wp-content/uploads/2025/08/restorative.jpg
END:VEVENT
BEGIN:VEVENT
DTSTART;TZID=UTC:20251103T133000
DTEND;TZID=UTC:20251103T143000
DTSTAMP:20260422T061201
CREATED:20241211T190316Z
LAST-MODIFIED:20250815T151641Z
UID:2166-1762176600-1762180200@lavenderlaneptw.ca
SUMMARY:Kundalini Yoga
DESCRIPTION:Kundalini Yoga Class\nBook Now\n60 minutes: $15.00 Kundalini Yoga Class: “Beyond its physical benefits\, Kundalini Yoga can be deeply transformative on a spiritual and emotional level\, promoting self-discovery\, inner peace\, and a sense of unity. It is accessible to all and can be done in a chair\, with props\, or visualized. It incorporates a blend of physical postures\, breathwork\, chanting\, and meditation to create a deeper connection with the self and the world. \nKundalini Yoga emphasizes the importance of knowing what is right for oneself. A teacher does not adjust the student\, and most postures are done with the eyes closed. Breathing techniques are used to balance the flow of energy throughout the body. Kundalini Yoga is also known for its unique combination of movements\, called kriyas.\nwhich are designed to target specific areas of the body and its chakras.”
URL:https://lavenderlaneptw.ca/event/kundalini-yoga-11/
LOCATION:Lavender Lane Wellness Centre\, 215 Toman Drive\, Waterloo\, Ontario\, N2K 4H1\, Canada
ATTACH;FMTTYPE=image/png:https://lavenderlaneptw.ca/wp-content/uploads/2024/10/Kundalini-1.png
END:VEVENT
BEGIN:VEVENT
DTSTART;TZID=UTC:20251102T100000
DTEND;TZID=UTC:20251102T110000
DTSTAMP:20260422T061201
CREATED:20250819T171742Z
LAST-MODIFIED:20250819T171742Z
UID:3315-1762077600-1762081200@lavenderlaneptw.ca
SUMMARY:Find Your Balance Yoga
DESCRIPTION: Finding Your Balance – Sundays @ 10am \nThis slow flow class is designed to reconnect you with your body\, breath\, and deeper truth. Through unrushed yet active sequences\, we focus on mindful movement that encourages presence and awareness. Each session offers space for introspection through a lens of compassion and curiosity. All levels welcome. \nDrop In: $25 + HST \n6 Pack: $130 + HST \n10 Pack: $205 + HST \nBook Now
URL:https://lavenderlaneptw.ca/event/find-your-balance-yoga-10/
LOCATION:Lavender Lane Wellness Centre\, 215 Toman Drive\, Waterloo\, Ontario\, N2K 4H1\, Canada
ATTACH;FMTTYPE=image/jpeg:https://lavenderlaneptw.ca/wp-content/uploads/2025/06/YOGA-CLASSES.jpg
END:VEVENT
BEGIN:VEVENT
DTSTART;TZID=UTC:20251030T193000
DTEND;TZID=UTC:20251030T203000
DTSTAMP:20260422T061201
CREATED:20250819T175447Z
LAST-MODIFIED:20250820T155726Z
UID:3345-1761852600-1761856200@lavenderlaneptw.ca
SUMMARY:Yoga Challenge and Presence
DESCRIPTION:Challenge and Presence – Thursdays @ 7:30pm \nThis dynamic flow class offers a balance of movement and stillness. Through active\, flowing sequences\, you will build strength\, increase flexibility\, and challenge both body and mind. Expect to move with purpose\, breathe with intention\, and leave feeling grounded and empowered. \nDrop In: $25 + HST \n6 Pack: $130 + HST \n10 Pack: $205 + HST \nBook Now\n 
URL:https://lavenderlaneptw.ca/event/yoga-challenge-and-presence-7/
LOCATION:Lavender Lane Wellness Centre\, 215 Toman Drive\, Waterloo\, Ontario\, N2K 4H1\, Canada
ATTACH;FMTTYPE=image/jpeg:https://lavenderlaneptw.ca/wp-content/uploads/2025/08/Yoga-Class.jpg
END:VEVENT
BEGIN:VEVENT
DTSTART;TZID=UTC:20251030T180000
DTEND;TZID=UTC:20251030T190000
DTSTAMP:20260422T061201
CREATED:20250822T151700Z
LAST-MODIFIED:20250822T151703Z
UID:3432-1761847200-1761850800@lavenderlaneptw.ca
SUMMARY:Restorative Yoga
DESCRIPTION:RESTORATIVE YOGA SERIES \nThursdays 6-7 PM \nBook Now \n  \nStep into a class designed to restore balance in both body and mind. This restorative yoga and meditation practice combines gentle\, supported postures with mindful breathing and guided meditation\, designed to release tension\, calm the nervous system\, and promote deep relaxation. Perfect for all levels\, this class offers a space to slow down\, reset and leave feeling rested and grounded \nRestorative Yoga & Meditation series\, I’m going to make this one 8 weeks long this time with the option to pay for all 8 classes upfront $160 per person ($20 per class) OR $25 drop in classes \nSAPPHIRA WAL TBAUER \nRMT\, YTT\, RYT
URL:https://lavenderlaneptw.ca/event/restorative-yoga-3/
LOCATION:Lavender Lane Wellness Centre\, 215 Toman Drive\, Waterloo\, Ontario\, N2K 4H1\, Canada
ATTACH;FMTTYPE=image/jpeg:https://lavenderlaneptw.ca/wp-content/uploads/2025/08/restorative.jpg
END:VEVENT
BEGIN:VEVENT
DTSTART;TZID=UTC:20251027T133000
DTEND;TZID=UTC:20251027T143000
DTSTAMP:20260422T061201
CREATED:20241211T190345Z
LAST-MODIFIED:20250815T151552Z
UID:2168-1761571800-1761575400@lavenderlaneptw.ca
SUMMARY:Kundalini Yoga
DESCRIPTION:Kundalini Yoga Class\nBook Now\n60 minutes: $15.00 Kundalini Yoga Class: “Beyond its physical benefits\, Kundalini Yoga can be deeply transformative on a spiritual and emotional level\, promoting self-discovery\, inner peace\, and a sense of unity. It is accessible to all and can be done in a chair\, with props\, or visualized. It incorporates a blend of physical postures\, breathwork\, chanting\, and meditation to create a deeper connection with the self and the world. \nKundalini Yoga emphasizes the importance of knowing what is right for oneself. A teacher does not adjust the student\, and most postures are done with the eyes closed. Breathing techniques are used to balance the flow of energy throughout the body. Kundalini Yoga is also known for its unique combination of movements\, called kriyas.\nwhich are designed to target specific areas of the body and its chakras.”
URL:https://lavenderlaneptw.ca/event/kundalini-yoga-12/
LOCATION:Lavender Lane Wellness Centre\, 215 Toman Drive\, Waterloo\, Ontario\, N2K 4H1\, Canada
ATTACH;FMTTYPE=image/png:https://lavenderlaneptw.ca/wp-content/uploads/2024/10/Kundalini-1.png
END:VEVENT
BEGIN:VEVENT
DTSTART;TZID=UTC:20251026T100000
DTEND;TZID=UTC:20251026T110000
DTSTAMP:20260422T061201
CREATED:20250819T171707Z
LAST-MODIFIED:20250819T171707Z
UID:3313-1761472800-1761476400@lavenderlaneptw.ca
SUMMARY:Find Your Balance Yoga
DESCRIPTION: Finding Your Balance – Sundays @ 10am \nThis slow flow class is designed to reconnect you with your body\, breath\, and deeper truth. Through unrushed yet active sequences\, we focus on mindful movement that encourages presence and awareness. Each session offers space for introspection through a lens of compassion and curiosity. All levels welcome. \nDrop In: $25 + HST \n6 Pack: $130 + HST \n10 Pack: $205 + HST \nBook Now
URL:https://lavenderlaneptw.ca/event/find-your-balance-yoga-9/
LOCATION:Lavender Lane Wellness Centre\, 215 Toman Drive\, Waterloo\, Ontario\, N2K 4H1\, Canada
ATTACH;FMTTYPE=image/jpeg:https://lavenderlaneptw.ca/wp-content/uploads/2025/06/YOGA-CLASSES.jpg
END:VEVENT
BEGIN:VEVENT
DTSTART;TZID=UTC:20251023T193000
DTEND;TZID=UTC:20251023T203000
DTSTAMP:20260422T061201
CREATED:20250819T175411Z
LAST-MODIFIED:20250820T155755Z
UID:3343-1761247800-1761251400@lavenderlaneptw.ca
SUMMARY:Yoga Challenge and Presence
DESCRIPTION:Challenge and Presence – Thursdays @ 7:30pm \nThis dynamic flow class offers a balance of movement and stillness. Through active\, flowing sequences\, you will build strength\, increase flexibility\, and challenge both body and mind. Expect to move with purpose\, breathe with intention\, and leave feeling grounded and empowered. \nDrop In: $25 + HST \n6 Pack: $130 + HST \n10 Pack: $205 + HST \nBook Now\n 
URL:https://lavenderlaneptw.ca/event/yoga-challenge-and-presence-6/
LOCATION:Lavender Lane Wellness Centre\, 215 Toman Drive\, Waterloo\, Ontario\, N2K 4H1\, Canada
ATTACH;FMTTYPE=image/jpeg:https://lavenderlaneptw.ca/wp-content/uploads/2025/08/Yoga-Class.jpg
END:VEVENT
END:VCALENDAR