BEGIN:VCALENDAR
VERSION:2.0
PRODID:-//Lavender Lane Wellness  Centre - ECPv6.15.20//NONSGML v1.0//EN
CALSCALE:GREGORIAN
METHOD:PUBLISH
X-WR-CALNAME:Lavender Lane Wellness  Centre
X-ORIGINAL-URL:https://lavenderlaneptw.ca
X-WR-CALDESC:Events for Lavender Lane Wellness  Centre
REFRESH-INTERVAL;VALUE=DURATION:PT1H
X-Robots-Tag:noindex
X-PUBLISHED-TTL:PT1H
BEGIN:VTIMEZONE
TZID:UTC
BEGIN:STANDARD
TZOFFSETFROM:+0000
TZOFFSETTO:+0000
TZNAME:UTC
DTSTART:20240101T000000
END:STANDARD
END:VTIMEZONE
BEGIN:VEVENT
DTSTART;TZID=UTC:20251023T193000
DTEND;TZID=UTC:20251023T203000
DTSTAMP:20260422T080505
CREATED:20250819T175411Z
LAST-MODIFIED:20250820T155755Z
UID:3343-1761247800-1761251400@lavenderlaneptw.ca
SUMMARY:Yoga Challenge and Presence
DESCRIPTION:Challenge and Presence – Thursdays @ 7:30pm \nThis dynamic flow class offers a balance of movement and stillness. Through active\, flowing sequences\, you will build strength\, increase flexibility\, and challenge both body and mind. Expect to move with purpose\, breathe with intention\, and leave feeling grounded and empowered. \nDrop In: $25 + HST \n6 Pack: $130 + HST \n10 Pack: $205 + HST \nBook Now\n 
URL:https://lavenderlaneptw.ca/event/yoga-challenge-and-presence-6/
LOCATION:Lavender Lane Wellness Centre\, 215 Toman Drive\, Waterloo\, Ontario\, N2K 4H1\, Canada
ATTACH;FMTTYPE=image/jpeg:https://lavenderlaneptw.ca/wp-content/uploads/2025/08/Yoga-Class.jpg
END:VEVENT
END:VCALENDAR