BEGIN:VCALENDAR
VERSION:2.0
PRODID:-//Lavender Lane Wellness  Centre - ECPv6.15.20//NONSGML v1.0//EN
CALSCALE:GREGORIAN
METHOD:PUBLISH
X-WR-CALNAME:Lavender Lane Wellness  Centre
X-ORIGINAL-URL:https://lavenderlaneptw.ca
X-WR-CALDESC:Events for Lavender Lane Wellness  Centre
REFRESH-INTERVAL;VALUE=DURATION:PT1H
X-Robots-Tag:noindex
X-PUBLISHED-TTL:PT1H
BEGIN:VTIMEZONE
TZID:UTC
BEGIN:STANDARD
TZOFFSETFROM:+0000
TZOFFSETTO:+0000
TZNAME:UTC
DTSTART:20240101T000000
END:STANDARD
END:VTIMEZONE
BEGIN:VTIMEZONE
TZID:America/Toronto
BEGIN:DAYLIGHT
TZOFFSETFROM:-0500
TZOFFSETTO:-0400
TZNAME:EDT
DTSTART:20240310T070000
END:DAYLIGHT
BEGIN:STANDARD
TZOFFSETFROM:-0400
TZOFFSETTO:-0500
TZNAME:EST
DTSTART:20241103T060000
END:STANDARD
BEGIN:DAYLIGHT
TZOFFSETFROM:-0500
TZOFFSETTO:-0400
TZNAME:EDT
DTSTART:20250309T070000
END:DAYLIGHT
BEGIN:STANDARD
TZOFFSETFROM:-0400
TZOFFSETTO:-0500
TZNAME:EST
DTSTART:20251102T060000
END:STANDARD
BEGIN:DAYLIGHT
TZOFFSETFROM:-0500
TZOFFSETTO:-0400
TZNAME:EDT
DTSTART:20260308T070000
END:DAYLIGHT
BEGIN:STANDARD
TZOFFSETFROM:-0400
TZOFFSETTO:-0500
TZNAME:EST
DTSTART:20261101T060000
END:STANDARD
END:VTIMEZONE
BEGIN:VEVENT
DTSTART;TZID=UTC:20251201T133000
DTEND;TZID=UTC:20251201T143000
DTSTAMP:20260421T221502
CREATED:20250815T152009Z
LAST-MODIFIED:20250815T152009Z
UID:3253-1764595800-1764599400@lavenderlaneptw.ca
SUMMARY:Kundalini Yoga
DESCRIPTION:Kundalini Yoga Class\nBook Now\n60 minutes: $15.00 Kundalini Yoga Class: “Beyond its physical benefits\, Kundalini Yoga can be deeply transformative on a spiritual and emotional level\, promoting self-discovery\, inner peace\, and a sense of unity. It is accessible to all and can be done in a chair\, with props\, or visualized. It incorporates a blend of physical postures\, breathwork\, chanting\, and meditation to create a deeper connection with the self and the world. \nKundalini Yoga emphasizes the importance of knowing what is right for oneself. A teacher does not adjust the student\, and most postures are done with the eyes closed. Breathing techniques are used to balance the flow of energy throughout the body. Kundalini Yoga is also known for its unique combination of movements\, called kriyas.\nwhich are designed to target specific areas of the body and its chakras.”
URL:https://lavenderlaneptw.ca/event/kundalini-yoga-4/
LOCATION:Lavender Lane Wellness Centre\, 215 Toman Drive\, Waterloo\, Ontario\, N2K 4H1\, Canada
ATTACH;FMTTYPE=image/png:https://lavenderlaneptw.ca/wp-content/uploads/2024/10/Kundalini-1.png
END:VEVENT
BEGIN:VEVENT
DTSTART;TZID=UTC:20251204T180000
DTEND;TZID=UTC:20251204T190000
DTSTAMP:20260421T221502
CREATED:20250822T152311Z
LAST-MODIFIED:20250822T152315Z
UID:3442-1764871200-1764874800@lavenderlaneptw.ca
SUMMARY:Restorative Yoga
DESCRIPTION:RESTORATIVE YOGA SERIES \nThursdays 6-7 PM \nBook Now \n  \nStep into a class designed to restore balance in both body and mind. This restorative yoga and meditation practice combines gentle\, supported postures with mindful breathing and guided meditation\, designed to release tension\, calm the nervous system\, and promote deep relaxation. Perfect for all levels\, this class offers a space to slow down\, reset and leave feeling rested and grounded \nRestorative Yoga & Meditation series\, I’m going to make this one 8 weeks long this time with the option to pay for all 8 classes upfront $160 per person ($20 per class) OR $25 drop in classes \nSAPPHIRA WAL TBAUER \nRMT\, YTT\, RYT
URL:https://lavenderlaneptw.ca/event/restorative-yoga-8/
LOCATION:Lavender Lane Wellness Centre\, 215 Toman Drive\, Waterloo\, Ontario\, N2K 4H1\, Canada
ATTACH;FMTTYPE=image/jpeg:https://lavenderlaneptw.ca/wp-content/uploads/2025/08/restorative.jpg
END:VEVENT
BEGIN:VEVENT
DTSTART;TZID=UTC:20251204T193000
DTEND;TZID=UTC:20251204T203000
DTSTAMP:20260421T221502
CREATED:20250819T175737Z
LAST-MODIFIED:20250820T155408Z
UID:3355-1764876600-1764880200@lavenderlaneptw.ca
SUMMARY:Yoga Challenge and Presence
DESCRIPTION:Challenge and Presence – Thursdays @ 7:30pm \nThis dynamic flow class offers a balance of movement and stillness. Through active\, flowing sequences\, you will build strength\, increase flexibility\, and challenge both body and mind. Expect to move with purpose\, breathe with intention\, and leave feeling grounded and empowered. \nDrop In: $25 + HST \n6 Pack: $130 + HST \n10 Pack: $205 + HST \nBook Now\n 
URL:https://lavenderlaneptw.ca/event/yoga-challenge-and-presence-12/
LOCATION:Lavender Lane Wellness Centre\, 215 Toman Drive\, Waterloo\, Ontario\, N2K 4H1\, Canada
ATTACH;FMTTYPE=image/jpeg:https://lavenderlaneptw.ca/wp-content/uploads/2025/08/Yoga-Class.jpg
END:VEVENT
BEGIN:VEVENT
DTSTART;TZID=UTC:20251206T100000
DTEND;TZID=UTC:20251206T120000
DTSTAMP:20260421T221502
CREATED:20251111T130120Z
LAST-MODIFIED:20251111T130457Z
UID:3578-1765015200-1765022400@lavenderlaneptw.ca
SUMMARY:Coming Home Experience: Finding Peace During the Holidays
DESCRIPTION:Not everyone feels merry this time of year—and that’s okay.\n\nJoin Lynn & Brian at Lavender Lane for a morning of peace\, reflection\, and heart-healing.\n\n\n\n\nGuided meditations and Reiki Group Energy\nChanneled messages from Spirit\nGentle journaling and group connection\n\n\n\n\nSaturday Dec 6 | 10 am to noon\nDoors open at 9:30 am\nExchange: $55\nA safe\, soulful space to come home to yourself this holiday season.\nLimited spots available\n\nBook Now
URL:https://lavenderlaneptw.ca/event/3578/
LOCATION:Lavender Lane Wellness Centre\, 215 Toman Drive\, Waterloo\, Ontario\, N2K 4H1\, Canada
CATEGORIES:Workshop
ATTACH;FMTTYPE=image/png:https://lavenderlaneptw.ca/wp-content/uploads/2025/11/Coming-Home-Experience-Finding-Peace-During-the-Holidays.png
END:VEVENT
BEGIN:VEVENT
DTSTART;TZID=UTC:20251207T100000
DTEND;TZID=UTC:20251207T110000
DTSTAMP:20260421T221502
CREATED:20250819T172010Z
LAST-MODIFIED:20250819T172036Z
UID:3323-1765101600-1765105200@lavenderlaneptw.ca
SUMMARY:Find Your Balance Yoga
DESCRIPTION: Finding Your Balance – Sundays @ 10am \nThis slow flow class is designed to reconnect you with your body\, breath\, and deeper truth. Through unrushed yet active sequences\, we focus on mindful movement that encourages presence and awareness. Each session offers space for introspection through a lens of compassion and curiosity. All levels welcome. \nDrop In: $25 + HST \n6 Pack: $130 + HST \n10 Pack: $205 + HST \nBook Now
URL:https://lavenderlaneptw.ca/event/find-your-balance-yoga-14/
LOCATION:Lavender Lane Wellness Centre\, 215 Toman Drive\, Waterloo\, Ontario\, N2K 4H1\, Canada
ATTACH;FMTTYPE=image/jpeg:https://lavenderlaneptw.ca/wp-content/uploads/2025/06/YOGA-CLASSES.jpg
END:VEVENT
BEGIN:VEVENT
DTSTART;TZID=UTC:20251208T133000
DTEND;TZID=UTC:20251208T143000
DTSTAMP:20260421T221502
CREATED:20250815T152050Z
LAST-MODIFIED:20250815T152050Z
UID:3255-1765200600-1765204200@lavenderlaneptw.ca
SUMMARY:Kundalini Yoga
DESCRIPTION:Kundalini Yoga Class\nBook Now\n60 minutes: $15.00 Kundalini Yoga Class: “Beyond its physical benefits\, Kundalini Yoga can be deeply transformative on a spiritual and emotional level\, promoting self-discovery\, inner peace\, and a sense of unity. It is accessible to all and can be done in a chair\, with props\, or visualized. It incorporates a blend of physical postures\, breathwork\, chanting\, and meditation to create a deeper connection with the self and the world. \nKundalini Yoga emphasizes the importance of knowing what is right for oneself. A teacher does not adjust the student\, and most postures are done with the eyes closed. Breathing techniques are used to balance the flow of energy throughout the body. Kundalini Yoga is also known for its unique combination of movements\, called kriyas.\nwhich are designed to target specific areas of the body and its chakras.”
URL:https://lavenderlaneptw.ca/event/kundalini-yoga-5/
LOCATION:Lavender Lane Wellness Centre\, 215 Toman Drive\, Waterloo\, Ontario\, N2K 4H1\, Canada
ATTACH;FMTTYPE=image/png:https://lavenderlaneptw.ca/wp-content/uploads/2024/10/Kundalini-1.png
END:VEVENT
BEGIN:VEVENT
DTSTART;TZID=UTC:20251211T193000
DTEND;TZID=UTC:20251211T203000
DTSTAMP:20260421T221502
CREATED:20250819T175813Z
LAST-MODIFIED:20250820T155229Z
UID:3357-1765481400-1765485000@lavenderlaneptw.ca
SUMMARY:Yoga Challenge and Presence
DESCRIPTION:Challenge and Presence – Thursdays @ 7:30pm \nThis dynamic flow class offers a balance of movement and stillness. Through active\, flowing sequences\, you will build strength\, increase flexibility\, and challenge both body and mind. Expect to move with purpose\, breathe with intention\, and leave feeling grounded and empowered. \nDrop In: $25 + HST \n6 Pack: $130 + HST \n10 Pack: $205 + HST \nBook Now\n 
URL:https://lavenderlaneptw.ca/event/yoga-challenge-and-presence-13/
LOCATION:Lavender Lane Wellness Centre\, 215 Toman Drive\, Waterloo\, Ontario\, N2K 4H1\, Canada
ATTACH;FMTTYPE=image/jpeg:https://lavenderlaneptw.ca/wp-content/uploads/2025/08/Yoga-Class.jpg
END:VEVENT
BEGIN:VEVENT
DTSTART;TZID=UTC:20251214T100000
DTEND;TZID=UTC:20251214T110000
DTSTAMP:20260421T221502
CREATED:20250819T172403Z
LAST-MODIFIED:20250819T172403Z
UID:3327-1765706400-1765710000@lavenderlaneptw.ca
SUMMARY:Find Your Balance Yoga
DESCRIPTION: Finding Your Balance – Sundays @ 10am \nThis slow flow class is designed to reconnect you with your body\, breath\, and deeper truth. Through unrushed yet active sequences\, we focus on mindful movement that encourages presence and awareness. Each session offers space for introspection through a lens of compassion and curiosity. All levels welcome. \nDrop In: $25 + HST \n6 Pack: $130 + HST \n10 Pack: $205 + HST \nBook Now
URL:https://lavenderlaneptw.ca/event/find-your-balance-yoga-16/
LOCATION:Lavender Lane Wellness Centre\, 215 Toman Drive\, Waterloo\, Ontario\, N2K 4H1\, Canada
ATTACH;FMTTYPE=image/jpeg:https://lavenderlaneptw.ca/wp-content/uploads/2025/06/YOGA-CLASSES.jpg
END:VEVENT
BEGIN:VEVENT
DTSTART;TZID=UTC:20251215T133000
DTEND;TZID=UTC:20251215T143000
DTSTAMP:20260421T221502
CREATED:20250815T152124Z
LAST-MODIFIED:20250815T152124Z
UID:3258-1765805400-1765809000@lavenderlaneptw.ca
SUMMARY:Kundalini Yoga
DESCRIPTION:Kundalini Yoga Class\nBook Now\n60 minutes: $15.00 Kundalini Yoga Class: “Beyond its physical benefits\, Kundalini Yoga can be deeply transformative on a spiritual and emotional level\, promoting self-discovery\, inner peace\, and a sense of unity. It is accessible to all and can be done in a chair\, with props\, or visualized. It incorporates a blend of physical postures\, breathwork\, chanting\, and meditation to create a deeper connection with the self and the world. \nKundalini Yoga emphasizes the importance of knowing what is right for oneself. A teacher does not adjust the student\, and most postures are done with the eyes closed. Breathing techniques are used to balance the flow of energy throughout the body. Kundalini Yoga is also known for its unique combination of movements\, called kriyas.\nwhich are designed to target specific areas of the body and its chakras.”
URL:https://lavenderlaneptw.ca/event/kundalini-yoga-6/
LOCATION:Lavender Lane Wellness Centre\, 215 Toman Drive\, Waterloo\, Ontario\, N2K 4H1\, Canada
ATTACH;FMTTYPE=image/png:https://lavenderlaneptw.ca/wp-content/uploads/2024/10/Kundalini-1.png
END:VEVENT
BEGIN:VEVENT
DTSTART;TZID=America/Toronto:20251216T180000
DTEND;TZID=America/Toronto:20251216T210000
DTSTAMP:20260421T221502
CREATED:20250206T203550Z
LAST-MODIFIED:20251118T202132Z
UID:2426-1765908000-1765918800@lavenderlaneptw.ca
SUMMARY:Exploring Wellness
DESCRIPTION:5:00 pm – 9:00 pm\n\nExploring Wellness!\n\n \n30 minutes\, $40\n\n\n\n\n\n\n\n\n\n\n\n\n\n\n\n\nAre you ready to dive into a world of wellness and rejuvenation? Join us at our Exploring Wellness event and unlock a new level of holistic health and fun! \n\n\n\n\n\n\n\n\n\n\n\n\n\n\n\n\n\n\n\n\n\n\n\n\n\n\n\n\nWhether you’re seeking relaxation\, clarity\, or just a new experience\, our event offers something for everyone. Don’t miss out—come explore wellness with us and see what new paths to well-being await! \n\nJoin us for an event featuring a fantastic lineup of practitioners offering their services at unbeatable discounts! \n***** \nIndian Head Massage 30 min – $40.00   \n\n\n\n\n\n\n\n\n\n\n\n\n\n\n\n\n\n\n\n\n\n\n\n\n\n\n\n\n\n\n\n\n\n\n\n\n\n\n\n\n\n\n\n\n\n\n\n\n\n\n\n\n\n\n\n\n\nExploring Wellness – Reiki 30 min – $40.00   \n\n\n\n\n\n\n\n\n\n\n\n\n\n\n\n\n\n\n\n\n\n\n\n\n\n\n\n\n\n\n\n\n\n\n\n\n\n\nBook Now \n\n\n\n\n\n\n\n\n\n\n\n\n\n\n\n\n\n\n\n\n  \n***** \n\n\n\n\n\n\n\n\n\n\n\n\n\n\n\n\n\nExploring Osteopathy – Victoria Woolridge In Person \nBook Now \nManual Osteopathy helps restore the normal function of the body by treating the causes of pain that may be the result of illness\, injury\, or stress of daily living. \n***** \n\n\n\n\nExploring Neurofeedback  – Shannon Thompson   \nBook Now     \n  \n Exploring Your Energy Grid – Shannon Thompson  \nBook Now    Energy Grid Readings are incredibly helpful to understand who we truly are. What does our actual “blueprint” look like? Who were we before we were influenced by our parents\, our society\, and the experiences in our lives? Understanding who we naturally are brings us so much peace because we stop trying to be who we think we are supposed to be. We can rest easy in our actual design and grow and expand from there. \n**** \n  \n\n\n\n\n\n\n\n\n\n\n\n\n\n\n\n\n\n\n\n\n\n\n\n\n\n\n\n\n\n\n\n\n\n\n\n \n\n\n\n\n \n\n \n\n 
URL:https://lavenderlaneptw.ca/event/exploring-wellness-6/
LOCATION:Lavender Lane Wellness Centre\, 215 Toman Drive\, Waterloo\, Ontario\, N2K 4H1\, Canada
ATTACH;FMTTYPE=image/png:https://lavenderlaneptw.ca/wp-content/uploads/2025/01/explore.png
END:VEVENT
BEGIN:VEVENT
DTSTART;TZID=UTC:20251217T180000
DTEND;TZID=UTC:20251217T200000
DTSTAMP:20260421T221502
CREATED:20251126T121813Z
LAST-MODIFIED:20251128T151838Z
UID:3629-1765994400-1766001600@lavenderlaneptw.ca
SUMMARY:Reiki Share
DESCRIPTION:Connect\, Heal\, and Grow \nJoin us at Lavender Lane Wellness Centre for a Reiki Share — a welcoming and supportive gathering where practitioners come together to give and receive healing energy. This is more than just a practice session; it’s a space to connect\, learn\, and grow within a community of like-minded healers. \n✨ What to Expect: \n\n\nGuided Meditation to center and ground the group \n\n\nHands-on Reiki Practice with rotations so everyone has the opportunity to both give and receive energy from multiple practitioners \n\n\nSharing Best Practices & Tools: Exchange tips\, techniques\, and insights to enhance your Reiki practice \n\n\nReflections & Discussion: Learn from others’ experiences and deepen your understanding of Reiki \n\n\n🕊️ Benefits:Participants often leave feeling relaxed\, renewed\, and balanced. Reiki Shares are a chance to hone your skills\, explore new approaches\, and honor the energy of others in a supportive\, friendly environment. \n🌿 Who Can Attend:Open to all who have completed at least Reiki Level I. Beginners and seasoned practitioners alike are welcome to participate\, learn\, and share. \nCome with an open heart\, a willingness to learn\, and leave feeling connected\, inspired\, and energized. \nBook Now
URL:https://lavenderlaneptw.ca/event/reiki-share-3/
LOCATION:Lavender Lane Wellness Centre\, 215 Toman Drive\, Waterloo\, Ontario\, N2K 4H1\, Canada
ATTACH;FMTTYPE=image/jpeg:https://lavenderlaneptw.ca/wp-content/uploads/2025/11/reiki.jpg
END:VEVENT
BEGIN:VEVENT
DTSTART;TZID=UTC:20251218T193000
DTEND;TZID=UTC:20251218T203000
DTSTAMP:20260421T221502
CREATED:20250819T175847Z
LAST-MODIFIED:20250820T155136Z
UID:3359-1766086200-1766089800@lavenderlaneptw.ca
SUMMARY:Yoga Challenge and Presence
DESCRIPTION:Challenge and Presence – Thursdays @ 7:30pm \nThis dynamic flow class offers a balance of movement and stillness. Through active\, flowing sequences\, you will build strength\, increase flexibility\, and challenge both body and mind. Expect to move with purpose\, breathe with intention\, and leave feeling grounded and empowered. \nDrop In: $25 + HST \n6 Pack: $130 + HST \n10 Pack: $205 + HST \nBook Now\n 
URL:https://lavenderlaneptw.ca/event/yoga-challenge-and-presence-14/
LOCATION:Lavender Lane Wellness Centre\, 215 Toman Drive\, Waterloo\, Ontario\, N2K 4H1\, Canada
ATTACH;FMTTYPE=image/jpeg:https://lavenderlaneptw.ca/wp-content/uploads/2025/08/Yoga-Class.jpg
END:VEVENT
BEGIN:VEVENT
DTSTART;TZID=UTC:20251221T100000
DTEND;TZID=UTC:20251221T110000
DTSTAMP:20260421T221502
CREATED:20250819T172107Z
LAST-MODIFIED:20250819T172214Z
UID:3325-1766311200-1766314800@lavenderlaneptw.ca
SUMMARY:Find Your Balance Yoga
DESCRIPTION: Finding Your Balance – Sundays @ 10am \nThis slow flow class is designed to reconnect you with your body\, breath\, and deeper truth. Through unrushed yet active sequences\, we focus on mindful movement that encourages presence and awareness. Each session offers space for introspection through a lens of compassion and curiosity. All levels welcome. \nDrop In: $25 + HST \n6 Pack: $130 + HST \n10 Pack: $205 + HST \nBook Now
URL:https://lavenderlaneptw.ca/event/find-your-balance-yoga-15/
LOCATION:Lavender Lane Wellness Centre\, 215 Toman Drive\, Waterloo\, Ontario\, N2K 4H1\, Canada
ATTACH;FMTTYPE=image/jpeg:https://lavenderlaneptw.ca/wp-content/uploads/2025/06/YOGA-CLASSES.jpg
END:VEVENT
END:VCALENDAR